BEGIN:VCALENDAR
PRODID:-//nuDatenautomaten//framework iCal4j //DE
VERSION:2.0
CALSCALE:GREGORIAN
BEGIN:VTIMEZONE
TZID:Europe/Berlin
LAST-MODIFIED:20260306T231828Z
TZURL:https://www.tzurl.org/zoneinfo/Europe/Berlin
X-LIC-LOCATION:Europe/Berlin
X-PROLEPTIC-TZNAME:LMT
BEGIN:STANDARD
TZNAME:CET
TZOFFSETFROM:+005328
TZOFFSETTO:+0100
DTSTART:18930401T000000
END:STANDARD
BEGIN:DAYLIGHT
TZNAME:CEST
TZOFFSETFROM:+0100
TZOFFSETTO:+0200
DTSTART:19160430T230000
RDATE:19400401T020000
RDATE:19430329T020000
RDATE:19460414T020000
RDATE:19470406T030000
RDATE:19480418T020000
RDATE:19490410T020000
RDATE:19800406T020000
END:DAYLIGHT
BEGIN:STANDARD
TZNAME:CET
TZOFFSETFROM:+0200
TZOFFSETTO:+0100
DTSTART:19161001T010000
RDATE:19421102T030000
RDATE:19431004T030000
RDATE:19441002T030000
RDATE:19451118T030000
RDATE:19461007T030000
END:STANDARD
BEGIN:DAYLIGHT
TZNAME:CEST
TZOFFSETFROM:+0100
TZOFFSETTO:+0200
DTSTART:19170416T020000
RRULE:FREQ=YEARLY;UNTIL=19180415T010000Z;BYMONTH=4;BYDAY=3MO
END:DAYLIGHT
BEGIN:STANDARD
TZNAME:CET
TZOFFSETFROM:+0200
TZOFFSETTO:+0100
DTSTART:19170917T030000
RRULE:FREQ=YEARLY;UNTIL=19180916T010000Z;BYMONTH=9;BYDAY=3MO
END:STANDARD
BEGIN:DAYLIGHT
TZNAME:CEST
TZOFFSETFROM:+0100
TZOFFSETTO:+0200
DTSTART:19440403T020000
RRULE:FREQ=YEARLY;UNTIL=19450402T010000Z;BYMONTH=4;BYDAY=1MO
END:DAYLIGHT
BEGIN:DAYLIGHT
TZNAME:CEMT
TZOFFSETFROM:+0200
TZOFFSETTO:+0300
DTSTART:19450524T020000
RDATE:19470511T030000
END:DAYLIGHT
BEGIN:DAYLIGHT
TZNAME:CEST
TZOFFSETFROM:+0300
TZOFFSETTO:+0200
DTSTART:19450924T030000
RDATE:19470629T030000
END:DAYLIGHT
BEGIN:STANDARD
TZNAME:CET
TZOFFSETFROM:+0100
TZOFFSETTO:+0100
DTSTART:19460101T000000
RDATE:19800101T000000
END:STANDARD
BEGIN:STANDARD
TZNAME:CET
TZOFFSETFROM:+0200
TZOFFSETTO:+0100
DTSTART:19471005T030000
RRULE:FREQ=YEARLY;UNTIL=19491002T010000Z;BYMONTH=10;BYDAY=1SU
END:STANDARD
BEGIN:STANDARD
TZNAME:CET
TZOFFSETFROM:+0200
TZOFFSETTO:+0100
DTSTART:19800928T030000
RRULE:FREQ=YEARLY;UNTIL=19950924T010000Z;BYMONTH=9;BYDAY=-1SU
END:STANDARD
BEGIN:DAYLIGHT
TZNAME:CEST
TZOFFSETFROM:+0100
TZOFFSETTO:+0200
DTSTART:19810329T020000
RRULE:FREQ=YEARLY;BYMONTH=3;BYDAY=-1SU
END:DAYLIGHT
BEGIN:STANDARD
TZNAME:CET
TZOFFSETFROM:+0200
TZOFFSETTO:+0100
DTSTART:19961027T030000
RRULE:FREQ=YEARLY;BYMONTH=10;BYDAY=-1SU
END:STANDARD
END:VTIMEZONE
BEGIN:VEVENT
DTSTAMP:20260425T143840Z
DTSTART;TZID=Europe/Berlin:20250212T200000
DTEND;TZID=Europe/Berlin:20250212T230000
SUMMARY:Unterlandpokal 4er SG Ludwigsburg 13 vs SF Pattonville 12 (5)
UID:2bbbc7c5-d8a6-4320-9dc0-5639102e45c8
STATUS:CONFIRMED
LAST-MODIFIED:20250320T094627Z
DESCRIPTION:Unterlandpokal 4er\nBegegnungs-Nr: 5\nHeim: SG Ludwigsburg 13\nGast: SF Pattonville 12\n\nAdresse: Mathildenstr. 31/1\, 71638 Ludwigsburg\n
LOCATION:Mathildenstr. 31/1\, 71638 Ludwigsburg
CATEGORIES:Saison Pokal 2024/25
END:VEVENT
BEGIN:VEVENT
DTSTAMP:20260425T143840Z
DTSTART;TZID=Europe/Berlin:20250409T200000
DTEND;TZID=Europe/Berlin:20250409T230000
SUMMARY:Unterlandpokal 4er SG Ludwigsburg 13 vs SG Ludwigsburg 12 (14)
UID:2a49bea7-eb25-4b38-98e3-eaf3e03bc5ca
STATUS:CONFIRMED
LAST-MODIFIED:20250417T220232Z
DESCRIPTION:Unterlandpokal 4er\nBegegnungs-Nr: 14\nHeim: SG Ludwigsburg 13\nGast: SG Ludwigsburg 12\n\nAdresse: Mathildenstr. 31/1\, 71638 Ludwigsburg\n
LOCATION:Mathildenstr. 31/1\, 71638 Ludwigsburg
CATEGORIES:Saison Pokal 2024/25
END:VEVENT
BEGIN:VEVENT
DTSTAMP:20260425T143840Z
DTSTART;TZID=Europe/Berlin:20250706T100000
DTEND;TZID=Europe/Berlin:20250706T130000
SUMMARY:Unterlandpokal 4er SG Ludwigsburg 13 vs SV Besigheim 11 (31)
UID:16af5c34-4901-4912-a9f1-7bebf75ad4d7
STATUS:CONFIRMED
LAST-MODIFIED:20250706T131611Z
DESCRIPTION:Unterlandpokal 4er\nBegegnungs-Nr: 31\nHeim: SG Ludwigsburg 13\nGast: SV Besigheim 11\n\nAdresse: Mathildenstr. 31/1\, 71638 Ludwigsburg\n
LOCATION:Mathildenstr. 31/1\, 71638 Ludwigsburg
CATEGORIES:Saison Pokal 2024/25
END:VEVENT
BEGIN:VEVENT
DTSTAMP:20260425T143840Z
DTSTART;TZID=Europe/Berlin:20250706T133000
DTEND;TZID=Europe/Berlin:20250706T163000
SUMMARY:Unterlandpokal 4er TSG Öhringen 12 vs SG Ludwigsburg 13 (39)
UID:42241b85-3495-4e4a-9d20-64c7f621462b
STATUS:CONFIRMED
LAST-MODIFIED:20250706T192732Z
DESCRIPTION:Unterlandpokal 4er\nBegegnungs-Nr: 39\nHeim: TSG Öhringen 12\nGast: SG Ludwigsburg 13\n\nAdresse: Am Ochsensee 41\, 74613 Öhringen\n
LOCATION:Am Ochsensee 41\, 74613 Öhringen
CATEGORIES:Saison Pokal 2024/25
END:VEVENT
BEGIN:VEVENT
DTSTAMP:20260425T143840Z
DTSTART;TZID=Europe/Berlin:20250613T200000
DTEND;TZID=Europe/Berlin:20250613T230000
SUMMARY:Unterlandpokal 4er SC Ingersheim 12 vs SG Ludwigsburg 13 (24)
UID:c5b5aad3-191a-4fe6-9a65-e847be9bb146
STATUS:CONFIRMED
LAST-MODIFIED:20250626T172401Z
DESCRIPTION:Unterlandpokal 4er\nBegegnungs-Nr: 24\nHeim: SC Ingersheim 12\nGast: SG Ludwigsburg 13\n\nAdresse: Haupstrasse 37\, 74379 Ingersheim\n
LOCATION:Haupstrasse 37\, 74379 Ingersheim
CATEGORIES:Saison Pokal 2024/25
END:VEVENT
END:VCALENDAR
