BEGIN:VCALENDAR
PRODID:-//nuDatenautomaten//framework iCal4j //DE
VERSION:2.0
CALSCALE:GREGORIAN
BEGIN:VTIMEZONE
TZID:Europe/Berlin
LAST-MODIFIED:20260306T231828Z
TZURL:https://www.tzurl.org/zoneinfo/Europe/Berlin
X-LIC-LOCATION:Europe/Berlin
X-PROLEPTIC-TZNAME:LMT
BEGIN:STANDARD
TZNAME:CET
TZOFFSETFROM:+005328
TZOFFSETTO:+0100
DTSTART:18930401T000000
END:STANDARD
BEGIN:DAYLIGHT
TZNAME:CEST
TZOFFSETFROM:+0100
TZOFFSETTO:+0200
DTSTART:19160430T230000
RDATE:19400401T020000
RDATE:19430329T020000
RDATE:19460414T020000
RDATE:19470406T030000
RDATE:19480418T020000
RDATE:19490410T020000
RDATE:19800406T020000
END:DAYLIGHT
BEGIN:STANDARD
TZNAME:CET
TZOFFSETFROM:+0200
TZOFFSETTO:+0100
DTSTART:19161001T010000
RDATE:19421102T030000
RDATE:19431004T030000
RDATE:19441002T030000
RDATE:19451118T030000
RDATE:19461007T030000
END:STANDARD
BEGIN:DAYLIGHT
TZNAME:CEST
TZOFFSETFROM:+0100
TZOFFSETTO:+0200
DTSTART:19170416T020000
RRULE:FREQ=YEARLY;UNTIL=19180415T010000Z;BYMONTH=4;BYDAY=3MO
END:DAYLIGHT
BEGIN:STANDARD
TZNAME:CET
TZOFFSETFROM:+0200
TZOFFSETTO:+0100
DTSTART:19170917T030000
RRULE:FREQ=YEARLY;UNTIL=19180916T010000Z;BYMONTH=9;BYDAY=3MO
END:STANDARD
BEGIN:DAYLIGHT
TZNAME:CEST
TZOFFSETFROM:+0100
TZOFFSETTO:+0200
DTSTART:19440403T020000
RRULE:FREQ=YEARLY;UNTIL=19450402T010000Z;BYMONTH=4;BYDAY=1MO
END:DAYLIGHT
BEGIN:DAYLIGHT
TZNAME:CEMT
TZOFFSETFROM:+0200
TZOFFSETTO:+0300
DTSTART:19450524T020000
RDATE:19470511T030000
END:DAYLIGHT
BEGIN:DAYLIGHT
TZNAME:CEST
TZOFFSETFROM:+0300
TZOFFSETTO:+0200
DTSTART:19450924T030000
RDATE:19470629T030000
END:DAYLIGHT
BEGIN:STANDARD
TZNAME:CET
TZOFFSETFROM:+0100
TZOFFSETTO:+0100
DTSTART:19460101T000000
RDATE:19800101T000000
END:STANDARD
BEGIN:STANDARD
TZNAME:CET
TZOFFSETFROM:+0200
TZOFFSETTO:+0100
DTSTART:19471005T030000
RRULE:FREQ=YEARLY;UNTIL=19491002T010000Z;BYMONTH=10;BYDAY=1SU
END:STANDARD
BEGIN:STANDARD
TZNAME:CET
TZOFFSETFROM:+0200
TZOFFSETTO:+0100
DTSTART:19800928T030000
RRULE:FREQ=YEARLY;UNTIL=19950924T010000Z;BYMONTH=9;BYDAY=-1SU
END:STANDARD
BEGIN:DAYLIGHT
TZNAME:CEST
TZOFFSETFROM:+0100
TZOFFSETTO:+0200
DTSTART:19810329T020000
RRULE:FREQ=YEARLY;BYMONTH=3;BYDAY=-1SU
END:DAYLIGHT
BEGIN:STANDARD
TZNAME:CET
TZOFFSETFROM:+0200
TZOFFSETTO:+0100
DTSTART:19961027T030000
RRULE:FREQ=YEARLY;BYMONTH=10;BYDAY=-1SU
END:STANDARD
END:VTIMEZONE
BEGIN:VEVENT
DTSTAMP:20260424T234437Z
DTSTART;TZID=Europe/Berlin:20250921T100000
DTEND;TZID=Europe/Berlin:20250921T130000
SUMMARY:BK OS Nord VfL Leipheim 4 vs TSG Ehingen 2 (2)
UID:f199cda0-1f9c-4a91-a760-194d689746f2
STATUS:CONFIRMED
LAST-MODIFIED:20250921T150914Z
DESCRIPTION:B-Klasse Oberschwaben Nord\nBegegnungs-Nr: 2\nHeim: VfL Leipheim 4\nGast: TSG Ehingen 2\n\nAdresse: Albert-Schweitzer-Straße 1\, 89340 Leipheim\n
LOCATION:Albert-Schweitzer-Straße 1\, 89340 Leipheim
CATEGORIES:Saison 2025/26
END:VEVENT
BEGIN:VEVENT
DTSTAMP:20260424T234437Z
DTSTART;TZID=Europe/Berlin:20251026T100000
DTEND;TZID=Europe/Berlin:20251026T130000
SUMMARY:BK OS Nord TSV Berghülen 3 vs VfL Leipheim 4 (8)
UID:588b4773-f5b1-431c-9f91-f98045fd6700
STATUS:CONFIRMED
LAST-MODIFIED:20251026T165811Z
DESCRIPTION:B-Klasse Oberschwaben Nord\nBegegnungs-Nr: 8\nHeim: TSV Berghülen 3\nGast: VfL Leipheim 4\n\nAdresse: Treffensbucherstraße 5\, 89180 Berghülen\n
LOCATION:Treffensbucherstraße 5\, 89180 Berghülen
CATEGORIES:Saison 2025/26
END:VEVENT
BEGIN:VEVENT
DTSTAMP:20260424T234437Z
DTSTART;TZID=Europe/Berlin:20251109T100000
DTEND;TZID=Europe/Berlin:20251109T130000
SUMMARY:BK OS Nord VfL Leipheim 4 vs spielfrei (9)
UID:1cb95889-2c46-48ce-9959-c4de76925153
STATUS:CONFIRMED
DESCRIPTION:B-Klasse Oberschwaben Nord\nBegegnungs-Nr: 9\nHeim: VfL Leipheim 4\nGast: spielfrei\n\nAdresse: Albert-Schweitzer-Straße 1\, 89340 Leipheim\n
LOCATION:Albert-Schweitzer-Straße 1\, 89340 Leipheim
CATEGORIES:Saison 2025/26
END:VEVENT
BEGIN:VEVENT
DTSTAMP:20260424T234437Z
DTSTART;TZID=Europe/Berlin:20251214T100000
DTEND;TZID=Europe/Berlin:20251214T130000
SUMMARY:BK OS Nord VfL Leipheim 4 vs SV Jedesheim 5 (16)
UID:5ca4707f-a74a-4e6d-882f-8b05a0c69aff
STATUS:CONFIRMED
LAST-MODIFIED:20251214T183147Z
DESCRIPTION:B-Klasse Oberschwaben Nord\nBegegnungs-Nr: 16\nHeim: VfL Leipheim 4\nGast: SV Jedesheim 5\n\nAdresse: Albert-Schweitzer-Straße 1\, 89340 Leipheim\n
LOCATION:Albert-Schweitzer-Straße 1\, 89340 Leipheim
CATEGORIES:Saison 2025/26
END:VEVENT
BEGIN:VEVENT
DTSTAMP:20260424T234437Z
DTSTART;TZID=Europe/Berlin:20260426T100000
DTEND;TZID=Europe/Berlin:20260426T130000
SUMMARY:BK OS Nord SC Obersulmetingen 3 vs VfL Leipheim 4 (27)
UID:cb0e4489-9f15-4ace-9054-bb2ad5827c97
STATUS:CONFIRMED
DESCRIPTION:B-Klasse Oberschwaben Nord\nBegegnungs-Nr: 27\nHeim: SC Obersulmetingen 3\nGast: VfL Leipheim 4\n\nAdresse: Bischof-Ulrich-Straße 28\, 88471 Obersulmetingen\n
LOCATION:Bischof-Ulrich-Straße 28\, 88471 Obersulmetingen
CATEGORIES:Saison 2025/26
END:VEVENT
BEGIN:VEVENT
DTSTAMP:20260424T234437Z
DTSTART;TZID=Europe/Berlin:20260308T100000
DTEND;TZID=Europe/Berlin:20260308T130000
SUMMARY:BK OS Nord VfL Leipheim 4 vs TSV Seissen 1 (23)
UID:d5b3e969-32f0-449b-bcf5-b688fb633d34
STATUS:CONFIRMED
LAST-MODIFIED:20260308T154417Z
DESCRIPTION:B-Klasse Oberschwaben Nord\nBegegnungs-Nr: 23\nHeim: VfL Leipheim 4\nGast: TSV Seissen 1\n\nAdresse: Albert-Schweitzer-Straße 1\, 89340 Leipheim\n
LOCATION:Albert-Schweitzer-Straße 1\, 89340 Leipheim
CATEGORIES:Saison 2025/26
END:VEVENT
BEGIN:VEVENT
DTSTAMP:20260424T234437Z
DTSTART;TZID=Europe/Berlin:20260201T100000
DTEND;TZID=Europe/Berlin:20260201T130000
SUMMARY:BK OS Nord SC Weiße Dame Ulm 4 vs VfL Leipheim 4 (18)
UID:6d2ef7ab-fc94-45f0-99d1-e40533e3ad84
STATUS:CONFIRMED
LAST-MODIFIED:20260201T174710Z
DESCRIPTION:B-Klasse Oberschwaben Nord\nBegegnungs-Nr: 18\nHeim: SC Weiße Dame Ulm 4\nGast: VfL Leipheim 4\n\nAdresse: Egginger Weg 40\, 89077 Ulm\n
LOCATION:Egginger Weg 40\, 89077 Ulm
CATEGORIES:Saison 2025/26
END:VEVENT
END:VCALENDAR
