BEGIN:VCALENDAR
PRODID:-//nuDatenautomaten//framework iCal4j //DE
VERSION:2.0
CALSCALE:GREGORIAN
BEGIN:VTIMEZONE
TZID:Europe/Berlin
LAST-MODIFIED:20260306T231828Z
TZURL:https://www.tzurl.org/zoneinfo/Europe/Berlin
X-LIC-LOCATION:Europe/Berlin
X-PROLEPTIC-TZNAME:LMT
BEGIN:STANDARD
TZNAME:CET
TZOFFSETFROM:+005328
TZOFFSETTO:+0100
DTSTART:18930401T000000
END:STANDARD
BEGIN:DAYLIGHT
TZNAME:CEST
TZOFFSETFROM:+0100
TZOFFSETTO:+0200
DTSTART:19160430T230000
RDATE:19400401T020000
RDATE:19430329T020000
RDATE:19460414T020000
RDATE:19470406T030000
RDATE:19480418T020000
RDATE:19490410T020000
RDATE:19800406T020000
END:DAYLIGHT
BEGIN:STANDARD
TZNAME:CET
TZOFFSETFROM:+0200
TZOFFSETTO:+0100
DTSTART:19161001T010000
RDATE:19421102T030000
RDATE:19431004T030000
RDATE:19441002T030000
RDATE:19451118T030000
RDATE:19461007T030000
END:STANDARD
BEGIN:DAYLIGHT
TZNAME:CEST
TZOFFSETFROM:+0100
TZOFFSETTO:+0200
DTSTART:19170416T020000
RRULE:FREQ=YEARLY;UNTIL=19180415T010000Z;BYMONTH=4;BYDAY=3MO
END:DAYLIGHT
BEGIN:STANDARD
TZNAME:CET
TZOFFSETFROM:+0200
TZOFFSETTO:+0100
DTSTART:19170917T030000
RRULE:FREQ=YEARLY;UNTIL=19180916T010000Z;BYMONTH=9;BYDAY=3MO
END:STANDARD
BEGIN:DAYLIGHT
TZNAME:CEST
TZOFFSETFROM:+0100
TZOFFSETTO:+0200
DTSTART:19440403T020000
RRULE:FREQ=YEARLY;UNTIL=19450402T010000Z;BYMONTH=4;BYDAY=1MO
END:DAYLIGHT
BEGIN:DAYLIGHT
TZNAME:CEMT
TZOFFSETFROM:+0200
TZOFFSETTO:+0300
DTSTART:19450524T020000
RDATE:19470511T030000
END:DAYLIGHT
BEGIN:DAYLIGHT
TZNAME:CEST
TZOFFSETFROM:+0300
TZOFFSETTO:+0200
DTSTART:19450924T030000
RDATE:19470629T030000
END:DAYLIGHT
BEGIN:STANDARD
TZNAME:CET
TZOFFSETFROM:+0100
TZOFFSETTO:+0100
DTSTART:19460101T000000
RDATE:19800101T000000
END:STANDARD
BEGIN:STANDARD
TZNAME:CET
TZOFFSETFROM:+0200
TZOFFSETTO:+0100
DTSTART:19471005T030000
RRULE:FREQ=YEARLY;UNTIL=19491002T010000Z;BYMONTH=10;BYDAY=1SU
END:STANDARD
BEGIN:STANDARD
TZNAME:CET
TZOFFSETFROM:+0200
TZOFFSETTO:+0100
DTSTART:19800928T030000
RRULE:FREQ=YEARLY;UNTIL=19950924T010000Z;BYMONTH=9;BYDAY=-1SU
END:STANDARD
BEGIN:DAYLIGHT
TZNAME:CEST
TZOFFSETFROM:+0100
TZOFFSETTO:+0200
DTSTART:19810329T020000
RRULE:FREQ=YEARLY;BYMONTH=3;BYDAY=-1SU
END:DAYLIGHT
BEGIN:STANDARD
TZNAME:CET
TZOFFSETFROM:+0200
TZOFFSETTO:+0100
DTSTART:19961027T030000
RRULE:FREQ=YEARLY;BYMONTH=10;BYDAY=-1SU
END:STANDARD
END:VTIMEZONE
BEGIN:VEVENT
DTSTAMP:20260420T114109Z
DTSTART;TZID=Europe/Berlin:20260315T090000
DTEND;TZID=Europe/Berlin:20260315T120000
SUMMARY:BK OA West SC Grunbach 4 vs SF 90 Spraitbach 3 (26)
UID:f9cd5e00-2486-4882-90e1-ee6915da1347
STATUS:CONFIRMED
LAST-MODIFIED:20260315T165231Z
DESCRIPTION:Bezirksklasse Ostalb West\nBegegnungs-Nr: 26\nHeim: SC Grunbach 4\nGast: SF 90 Spraitbach 3\n\nAdresse: Schillerstr. 30\, 73630 Remshalden-Grunbach\n
LOCATION:Schillerstr. 30\, 73630 Remshalden-Grunbach
CATEGORIES:Saison 2025/26
END:VEVENT
BEGIN:VEVENT
DTSTAMP:20260420T114109Z
DTSTART;TZID=Europe/Berlin:20251221T090000
DTEND;TZID=Europe/Berlin:20251221T120000
SUMMARY:BK OA West SC Grunbach 4 vs SG Schwäbisch Gmünd 3 (19)
UID:7a66a965-79c7-4d8b-ad9e-553d36afe033
STATUS:CONFIRMED
LAST-MODIFIED:20251221T180217Z
DESCRIPTION:Bezirksklasse Ostalb West\nBegegnungs-Nr: 19\nHeim: SC Grunbach 4\nGast: SG Schwäbisch Gmünd 3\n\nAdresse: Schillerstr. 30\, 73630 Remshalden-Grunbach\n
LOCATION:Schillerstr. 30\, 73630 Remshalden-Grunbach
CATEGORIES:Saison 2025/26
END:VEVENT
BEGIN:VEVENT
DTSTAMP:20260420T114109Z
DTSTART;TZID=Europe/Berlin:20251109T090000
DTEND;TZID=Europe/Berlin:20251109T120000
SUMMARY:BK OA West SC Grunbach 4 vs SU Schorndorf 2 (12)
UID:2d72000b-a0bd-4ab1-8859-c6e9cdd7cbc2
STATUS:CONFIRMED
LAST-MODIFIED:20251109T162731Z
DESCRIPTION:Bezirksklasse Ostalb West\nBegegnungs-Nr: 12\nHeim: SC Grunbach 4\nGast: SU Schorndorf 2\n\nAdresse: Schillerstr. 30\, 73630 Remshalden-Grunbach\n
LOCATION:Schillerstr. 30\, 73630 Remshalden-Grunbach
CATEGORIES:Saison 2025/26
END:VEVENT
BEGIN:VEVENT
DTSTAMP:20260420T114109Z
DTSTART;TZID=Europe/Berlin:20251012T090000
DTEND;TZID=Europe/Berlin:20251012T120000
SUMMARY:BK OA West SG Schwäbisch Gmünd 4 vs SC Grunbach 4 (5)
UID:3b5579f0-e538-4d59-9a65-89b55bca37ef
STATUS:CONFIRMED
LAST-MODIFIED:20251012T154317Z
DESCRIPTION:Bezirksklasse Ostalb West\nBegegnungs-Nr: 5\nHeim: SG Schwäbisch Gmünd 4\nGast: SC Grunbach 4\n\nAdresse: Leutzestr. 53\, 73525 Schwäbisch Gmünd\n
LOCATION:Leutzestr. 53\, 73525 Schwäbisch Gmünd
CATEGORIES:Saison 2025/26
END:VEVENT
BEGIN:VEVENT
DTSTAMP:20260420T114109Z
DTSTART;TZID=Europe/Berlin:20251005T090000
DTEND;TZID=Europe/Berlin:20251005T120000
SUMMARY:BK OA West SC Grunbach 5 vs SC Grunbach 4 (4)
UID:10eb49c4-402e-46e8-9857-5f8565cb43d6
STATUS:CONFIRMED
LAST-MODIFIED:20251005T122015Z
DESCRIPTION:Bezirksklasse Ostalb West\nBegegnungs-Nr: 4\nHeim: SC Grunbach 5\nGast: SC Grunbach 4\n\nAdresse: Schillerstr. 30\, 73630 Remshalden-Grunbach\n
LOCATION:Schillerstr. 30\, 73630 Remshalden-Grunbach
CATEGORIES:Saison 2025/26
END:VEVENT
BEGIN:VEVENT
DTSTAMP:20260420T114109Z
DTSTART;TZID=Europe/Berlin:20260125T090000
DTEND;TZID=Europe/Berlin:20260125T120000
SUMMARY:BK OA West SF Heubach 1 vs SC Grunbach 4 (23)
UID:8f23933b-b261-4282-82bf-ebf9dc734393
STATUS:CONFIRMED
LAST-MODIFIED:20260125T154511Z
DESCRIPTION:Bezirksklasse Ostalb West\nBegegnungs-Nr: 23\nHeim: SF Heubach 1\nGast: SC Grunbach 4\n\nAdresse: Helmut-Hörmann-Straße 19\, 73540 Heubach\n
LOCATION:Helmut-Hörmann-Straße 19\, 73540 Heubach
CATEGORIES:Saison 2025/26
END:VEVENT
BEGIN:VEVENT
DTSTAMP:20260420T114109Z
DTSTART;TZID=Europe/Berlin:20251130T090000
DTEND;TZID=Europe/Berlin:20251130T120000
SUMMARY:BK OA West SG Bettringen 1 vs SC Grunbach 4 (14)
UID:0269f27f-e203-4832-9152-5f1d32f136ad
STATUS:CONFIRMED
LAST-MODIFIED:20251130T153354Z
DESCRIPTION:Bezirksklasse Ostalb West\nBegegnungs-Nr: 14\nHeim: SG Bettringen 1\nGast: SC Grunbach 4\n
LOCATION:
CATEGORIES:Saison 2025/26
END:VEVENT
END:VCALENDAR
