BEGIN:VCALENDAR
PRODID:-//nuDatenautomaten//framework iCal4j //DE
VERSION:2.0
CALSCALE:GREGORIAN
BEGIN:VTIMEZONE
TZID:Europe/Berlin
LAST-MODIFIED:20260306T231828Z
TZURL:https://www.tzurl.org/zoneinfo/Europe/Berlin
X-LIC-LOCATION:Europe/Berlin
X-PROLEPTIC-TZNAME:LMT
BEGIN:STANDARD
TZNAME:CET
TZOFFSETFROM:+005328
TZOFFSETTO:+0100
DTSTART:18930401T000000
END:STANDARD
BEGIN:DAYLIGHT
TZNAME:CEST
TZOFFSETFROM:+0100
TZOFFSETTO:+0200
DTSTART:19160430T230000
RDATE:19400401T020000
RDATE:19430329T020000
RDATE:19460414T020000
RDATE:19470406T030000
RDATE:19480418T020000
RDATE:19490410T020000
RDATE:19800406T020000
END:DAYLIGHT
BEGIN:STANDARD
TZNAME:CET
TZOFFSETFROM:+0200
TZOFFSETTO:+0100
DTSTART:19161001T010000
RDATE:19421102T030000
RDATE:19431004T030000
RDATE:19441002T030000
RDATE:19451118T030000
RDATE:19461007T030000
END:STANDARD
BEGIN:DAYLIGHT
TZNAME:CEST
TZOFFSETFROM:+0100
TZOFFSETTO:+0200
DTSTART:19170416T020000
RRULE:FREQ=YEARLY;UNTIL=19180415T010000Z;BYMONTH=4;BYDAY=3MO
END:DAYLIGHT
BEGIN:STANDARD
TZNAME:CET
TZOFFSETFROM:+0200
TZOFFSETTO:+0100
DTSTART:19170917T030000
RRULE:FREQ=YEARLY;UNTIL=19180916T010000Z;BYMONTH=9;BYDAY=3MO
END:STANDARD
BEGIN:DAYLIGHT
TZNAME:CEST
TZOFFSETFROM:+0100
TZOFFSETTO:+0200
DTSTART:19440403T020000
RRULE:FREQ=YEARLY;UNTIL=19450402T010000Z;BYMONTH=4;BYDAY=1MO
END:DAYLIGHT
BEGIN:DAYLIGHT
TZNAME:CEMT
TZOFFSETFROM:+0200
TZOFFSETTO:+0300
DTSTART:19450524T020000
RDATE:19470511T030000
END:DAYLIGHT
BEGIN:DAYLIGHT
TZNAME:CEST
TZOFFSETFROM:+0300
TZOFFSETTO:+0200
DTSTART:19450924T030000
RDATE:19470629T030000
END:DAYLIGHT
BEGIN:STANDARD
TZNAME:CET
TZOFFSETFROM:+0100
TZOFFSETTO:+0100
DTSTART:19460101T000000
RDATE:19800101T000000
END:STANDARD
BEGIN:STANDARD
TZNAME:CET
TZOFFSETFROM:+0200
TZOFFSETTO:+0100
DTSTART:19471005T030000
RRULE:FREQ=YEARLY;UNTIL=19491002T010000Z;BYMONTH=10;BYDAY=1SU
END:STANDARD
BEGIN:STANDARD
TZNAME:CET
TZOFFSETFROM:+0200
TZOFFSETTO:+0100
DTSTART:19800928T030000
RRULE:FREQ=YEARLY;UNTIL=19950924T010000Z;BYMONTH=9;BYDAY=-1SU
END:STANDARD
BEGIN:DAYLIGHT
TZNAME:CEST
TZOFFSETFROM:+0100
TZOFFSETTO:+0200
DTSTART:19810329T020000
RRULE:FREQ=YEARLY;BYMONTH=3;BYDAY=-1SU
END:DAYLIGHT
BEGIN:STANDARD
TZNAME:CET
TZOFFSETFROM:+0200
TZOFFSETTO:+0100
DTSTART:19961027T030000
RRULE:FREQ=YEARLY;BYMONTH=10;BYDAY=-1SU
END:STANDARD
END:VTIMEZONE
BEGIN:VEVENT
DTSTAMP:20260420T171435Z
DTSTART;TZID=Europe/Berlin:20250921T090000
DTEND;TZID=Europe/Berlin:20250921T120000
SUMMARY:KK ES/GP SC Geislingen 1 vs SC Ostfildern 2 (5)
UID:826d7ea8-9081-4330-b0e8-12ce21a228c9
STATUS:CONFIRMED
LAST-MODIFIED:20250927T174734Z
DESCRIPTION:Kreisklasse Esslingen/Göppingen\nBegegnungs-Nr: 5\nHeim: SC Geislingen 1\nGast: SC Ostfildern 2\n\nAdresse: Schulstr. 20\, 73312 Geislingen\n
LOCATION:Schulstr. 20\, 73312 Geislingen
CATEGORIES:Saison 2025/26
END:VEVENT
BEGIN:VEVENT
DTSTAMP:20260420T171435Z
DTSTART;TZID=Europe/Berlin:20251130T090000
DTEND;TZID=Europe/Berlin:20251130T120000
SUMMARY:KK ES/GP SC Geislingen 1 vs SV Faurndau 1 (14)
UID:8f87c004-b230-4cd4-8810-957c637d84eb
STATUS:CONFIRMED
LAST-MODIFIED:20251202T200522Z
DESCRIPTION:Kreisklasse Esslingen/Göppingen\nBegegnungs-Nr: 14\nHeim: SC Geislingen 1\nGast: SV Faurndau 1\n\nAdresse: Schulstr. 20\, 73312 Geislingen\n
LOCATION:Schulstr. 20\, 73312 Geislingen
CATEGORIES:Saison 2025/26
END:VEVENT
BEGIN:VEVENT
DTSTAMP:20260420T171435Z
DTSTART;TZID=Europe/Berlin:20260201T090000
DTEND;TZID=Europe/Berlin:20260201T120000
SUMMARY:KK ES/GP SC Geislingen 1 vs SV Dicker Turm Esslingen 2 (23)
UID:a73da8a6-5233-4040-9a24-440c011e248e
STATUS:CONFIRMED
LAST-MODIFIED:20260207T141446Z
DESCRIPTION:Kreisklasse Esslingen/Göppingen\nBegegnungs-Nr: 23\nHeim: SC Geislingen 1\nGast: SV Dicker Turm Esslingen 2\n\nAdresse: Schulstr. 20\, 73312 Geislingen\n
LOCATION:Schulstr. 20\, 73312 Geislingen
CATEGORIES:Saison 2025/26
END:VEVENT
BEGIN:VEVENT
DTSTAMP:20260420T171435Z
DTSTART;TZID=Europe/Berlin:20260329T090000
DTEND;TZID=Europe/Berlin:20260329T120000
SUMMARY:KK ES/GP SC Geislingen 1 vs SV Altbach 1 (32)
UID:5dc8e6a5-19b1-4ce2-91f4-4ce5fe02710c
STATUS:CONFIRMED
LAST-MODIFIED:20260331T164653Z
DESCRIPTION:Kreisklasse Esslingen/Göppingen\nBegegnungs-Nr: 32\nHeim: SC Geislingen 1\nGast: SV Altbach 1\n\nAdresse: Schulstr. 20\, 73312 Geislingen\n
LOCATION:Schulstr. 20\, 73312 Geislingen
CATEGORIES:Saison 2025/26
END:VEVENT
BEGIN:VEVENT
DTSTAMP:20260420T171435Z
DTSTART;TZID=Europe/Berlin:20260510T090000
DTEND;TZID=Europe/Berlin:20260510T120000
SUMMARY:KK ES/GP SC Geislingen 1 vs SC Kirchheim/Teck 2 (41)
UID:1956313d-d71a-4b49-b8c3-bba2fa633fe1
STATUS:CONFIRMED
DESCRIPTION:Kreisklasse Esslingen/Göppingen\nBegegnungs-Nr: 41\nHeim: SC Geislingen 1\nGast: SC Kirchheim/Teck 2\n\nAdresse: Schulstr. 20\, 73312 Geislingen\n
LOCATION:Schulstr. 20\, 73312 Geislingen
CATEGORIES:Saison 2025/26
END:VEVENT
BEGIN:VEVENT
DTSTAMP:20260420T171435Z
DTSTART;TZID=Europe/Berlin:20251012T090000
DTEND;TZID=Europe/Berlin:20251012T120000
SUMMARY:KK ES/GP SV Ebersbach 2 vs SC Geislingen 1 (7)
UID:b05aeadf-397c-4666-a07a-60c22935bf4d
STATUS:CONFIRMED
LAST-MODIFIED:20251022T163538Z
DESCRIPTION:Kreisklasse Esslingen/Göppingen\nBegegnungs-Nr: 7\nHeim: SV Ebersbach 2\nGast: SC Geislingen 1\n\nAdresse: Kirchbergstr. 2\, 73061 Ebersbach\n
LOCATION:Kirchbergstr. 2\, 73061 Ebersbach
CATEGORIES:Saison 2025/26
END:VEVENT
BEGIN:VEVENT
DTSTAMP:20260420T171435Z
DTSTART;TZID=Europe/Berlin:20251214T090000
DTEND;TZID=Europe/Berlin:20251214T120000
SUMMARY:KK ES/GP SG Filder 1 vs SC Geislingen 1 (18)
UID:c5587ea9-3f8c-4ab0-891a-cf303e2238cb
STATUS:CONFIRMED
LAST-MODIFIED:20251217T192009Z
DESCRIPTION:Kreisklasse Esslingen/Göppingen\nBegegnungs-Nr: 18\nHeim: SG Filder 1\nGast: SC Geislingen 1\n\nAdresse: Bernhäuser Hauptstraße 2\, 70794 Filderstadt-Bernhausen\n
LOCATION:Bernhäuser Hauptstraße 2\, 70794 Filderstadt-Bernhausen
CATEGORIES:Saison 2025/26
END:VEVENT
BEGIN:VEVENT
DTSTAMP:20260420T171435Z
DTSTART;TZID=Europe/Berlin:20260308T090000
DTEND;TZID=Europe/Berlin:20260308T120000
SUMMARY:KK ES/GP SF Plochingen 2 vs SC Geislingen 1 (29)
UID:aad54c67-ec74-4de1-89e7-4f2b377aa3ad
STATUS:CONFIRMED
LAST-MODIFIED:20260309T180250Z
DESCRIPTION:Kreisklasse Esslingen/Göppingen\nBegegnungs-Nr: 29\nHeim: SF Plochingen 2\nGast: SC Geislingen 1\n\nAdresse: Am Markt 10\, 73207 Plochingen\n
LOCATION:Am Markt 10\, 73207 Plochingen
CATEGORIES:Saison 2025/26
END:VEVENT
BEGIN:VEVENT
DTSTAMP:20260420T171435Z
DTSTART;TZID=Europe/Berlin:20260426T090000
DTEND;TZID=Europe/Berlin:20260426T120000
SUMMARY:KK ES/GP SK Freibauer Esslingen 2 vs SC Geislingen 1 (40)
UID:c070e70a-5c0e-4c11-9734-d330fe7e719f
STATUS:CONFIRMED
DESCRIPTION:Kreisklasse Esslingen/Göppingen\nBegegnungs-Nr: 40\nHeim: SK Freibauer Esslingen 2\nGast: SC Geislingen 1\n\nAdresse: Landolinsgasse 16\, 73728 Esslingen am Neckar\n
LOCATION:Landolinsgasse 16\, 73728 Esslingen am Neckar
CATEGORIES:Saison 2025/26
END:VEVENT
END:VCALENDAR
