BEGIN:VCALENDAR
PRODID:-//nuDatenautomaten//framework iCal4j //DE
VERSION:2.0
CALSCALE:GREGORIAN
BEGIN:VTIMEZONE
TZID:Europe/Berlin
LAST-MODIFIED:20260306T231828Z
TZURL:https://www.tzurl.org/zoneinfo/Europe/Berlin
X-LIC-LOCATION:Europe/Berlin
X-PROLEPTIC-TZNAME:LMT
BEGIN:STANDARD
TZNAME:CET
TZOFFSETFROM:+005328
TZOFFSETTO:+0100
DTSTART:18930401T000000
END:STANDARD
BEGIN:DAYLIGHT
TZNAME:CEST
TZOFFSETFROM:+0100
TZOFFSETTO:+0200
DTSTART:19160430T230000
RDATE:19400401T020000
RDATE:19430329T020000
RDATE:19460414T020000
RDATE:19470406T030000
RDATE:19480418T020000
RDATE:19490410T020000
RDATE:19800406T020000
END:DAYLIGHT
BEGIN:STANDARD
TZNAME:CET
TZOFFSETFROM:+0200
TZOFFSETTO:+0100
DTSTART:19161001T010000
RDATE:19421102T030000
RDATE:19431004T030000
RDATE:19441002T030000
RDATE:19451118T030000
RDATE:19461007T030000
END:STANDARD
BEGIN:DAYLIGHT
TZNAME:CEST
TZOFFSETFROM:+0100
TZOFFSETTO:+0200
DTSTART:19170416T020000
RRULE:FREQ=YEARLY;UNTIL=19180415T010000Z;BYMONTH=4;BYDAY=3MO
END:DAYLIGHT
BEGIN:STANDARD
TZNAME:CET
TZOFFSETFROM:+0200
TZOFFSETTO:+0100
DTSTART:19170917T030000
RRULE:FREQ=YEARLY;UNTIL=19180916T010000Z;BYMONTH=9;BYDAY=3MO
END:STANDARD
BEGIN:DAYLIGHT
TZNAME:CEST
TZOFFSETFROM:+0100
TZOFFSETTO:+0200
DTSTART:19440403T020000
RRULE:FREQ=YEARLY;UNTIL=19450402T010000Z;BYMONTH=4;BYDAY=1MO
END:DAYLIGHT
BEGIN:DAYLIGHT
TZNAME:CEMT
TZOFFSETFROM:+0200
TZOFFSETTO:+0300
DTSTART:19450524T020000
RDATE:19470511T030000
END:DAYLIGHT
BEGIN:DAYLIGHT
TZNAME:CEST
TZOFFSETFROM:+0300
TZOFFSETTO:+0200
DTSTART:19450924T030000
RDATE:19470629T030000
END:DAYLIGHT
BEGIN:STANDARD
TZNAME:CET
TZOFFSETFROM:+0100
TZOFFSETTO:+0100
DTSTART:19460101T000000
RDATE:19800101T000000
END:STANDARD
BEGIN:STANDARD
TZNAME:CET
TZOFFSETFROM:+0200
TZOFFSETTO:+0100
DTSTART:19471005T030000
RRULE:FREQ=YEARLY;UNTIL=19491002T010000Z;BYMONTH=10;BYDAY=1SU
END:STANDARD
BEGIN:STANDARD
TZNAME:CET
TZOFFSETFROM:+0200
TZOFFSETTO:+0100
DTSTART:19800928T030000
RRULE:FREQ=YEARLY;UNTIL=19950924T010000Z;BYMONTH=9;BYDAY=-1SU
END:STANDARD
BEGIN:DAYLIGHT
TZNAME:CEST
TZOFFSETFROM:+0100
TZOFFSETTO:+0200
DTSTART:19810329T020000
RRULE:FREQ=YEARLY;BYMONTH=3;BYDAY=-1SU
END:DAYLIGHT
BEGIN:STANDARD
TZNAME:CET
TZOFFSETFROM:+0200
TZOFFSETTO:+0100
DTSTART:19961027T030000
RRULE:FREQ=YEARLY;BYMONTH=10;BYDAY=-1SU
END:STANDARD
END:VTIMEZONE
BEGIN:VEVENT
DTSTAMP:20260425T211017Z
DTSTART;TZID=Europe/Berlin:20250413T000000
DTEND;TZID=Europe/Berlin:20250413T030000
SUMMARY:Oberliga Württemberg SG Donautal Tuttlingen 1 vs SG Schwäbisch Gmünd 1 (3)
UID:e4db05d3-629a-4d78-b921-b98188cab403
STATUS:CONFIRMED
LAST-MODIFIED:20250414T094342Z
DESCRIPTION:Oberliga Württemberg\nBegegnungs-Nr: 3\nHeim: SG Donautal Tuttlingen 1\nGast: SG Schwäbisch Gmünd 1\nHalle: Bürgerhaus Grunbach\, Schillerstr.30\, 73630 Remshalden-Grunbach\nAdresse: Jahnstr. 5\, 78532 Tuttlingen\n
LOCATION:Bürgerhaus Grunbach\, Schillerstr.30\, 73630 Remshalden-Grunbach Jahnstr. 5\, 78532 Tuttlingen
CATEGORIES:Saison 2024/25
END:VEVENT
BEGIN:VEVENT
DTSTAMP:20260425T211017Z
DTSTART;TZID=Europe/Berlin:20240915T000000
DTEND;TZID=Europe/Berlin:20240915T030000
SUMMARY:Oberliga Württemberg SC Grunbach 1 vs SG Donautal Tuttlingen 1 (9)
UID:3f644006-d110-453b-9ede-a3ff1a7128a1
STATUS:CONFIRMED
LAST-MODIFIED:20240915T162323Z
DESCRIPTION:Oberliga Württemberg\nBegegnungs-Nr: 9\nHeim: SC Grunbach 1\nGast: SG Donautal Tuttlingen 1\n\nAdresse: Schillerstr. 30\, 73630 Remshalden-Grunbach\n
LOCATION:Schillerstr. 30\, 73630 Remshalden-Grunbach
CATEGORIES:Saison 2024/25
END:VEVENT
BEGIN:VEVENT
DTSTAMP:20260425T211017Z
DTSTART;TZID=Europe/Berlin:20241020T000000
DTEND;TZID=Europe/Berlin:20241020T030000
SUMMARY:Oberliga Württemberg SG Donautal Tuttlingen 1 vs Heilbronner SV 2 (12)
UID:0af27d12-7167-4e32-9031-609b30b300f9
STATUS:CONFIRMED
LAST-MODIFIED:20241023T054713Z
DESCRIPTION:Oberliga Württemberg\nBegegnungs-Nr: 12\nHeim: SG Donautal Tuttlingen 1\nGast: Heilbronner SV 2\n\nAdresse: Jahnstr. 5\, 78532 Tuttlingen\n
LOCATION:Jahnstr. 5\, 78532 Tuttlingen
CATEGORIES:Saison 2024/25
END:VEVENT
BEGIN:VEVENT
DTSTAMP:20260425T211017Z
DTSTART;TZID=Europe/Berlin:20241110T000000
DTEND;TZID=Europe/Berlin:20241110T030000
SUMMARY:Oberliga Württemberg TG Biberach 1 vs SG Donautal Tuttlingen 1 (20)
UID:b312c56f-1031-47a6-9110-8551565eb5bd
STATUS:CONFIRMED
LAST-MODIFIED:20241111T042606Z
DESCRIPTION:Oberliga Württemberg\nBegegnungs-Nr: 20\nHeim: TG Biberach 1\nGast: SG Donautal Tuttlingen 1\n\nAdresse: Rindenmooser Str.132\, 88400 Biberach-Rindenmoos\n
LOCATION:Rindenmooser Str.132\, 88400 Biberach-Rindenmoos
CATEGORIES:Saison 2024/25
END:VEVENT
BEGIN:VEVENT
DTSTAMP:20260425T211017Z
DTSTART;TZID=Europe/Berlin:20241201T000000
DTEND;TZID=Europe/Berlin:20241201T030000
SUMMARY:Oberliga Württemberg SG Donautal Tuttlingen 1 vs SC Tettnang 1 (21)
UID:86c45e0b-1cb8-495c-84cb-a6531b86e777
STATUS:CONFIRMED
LAST-MODIFIED:20241202T060325Z
DESCRIPTION:Oberliga Württemberg\nBegegnungs-Nr: 21\nHeim: SG Donautal Tuttlingen 1\nGast: SC Tettnang 1\n\nAdresse: Jahnstr. 5\, 78532 Tuttlingen\n
LOCATION:Jahnstr. 5\, 78532 Tuttlingen
CATEGORIES:Saison 2024/25
END:VEVENT
BEGIN:VEVENT
DTSTAMP:20260425T211017Z
DTSTART;TZID=Europe/Berlin:20250112T000000
DTEND;TZID=Europe/Berlin:20250112T030000
SUMMARY:Oberliga Württemberg SG Donautal Tuttlingen 1 vs SK Wernau 1 (30)
UID:ca8da474-d14c-417d-a408-30ecdbef597a
STATUS:CONFIRMED
LAST-MODIFIED:20250113T123006Z
DESCRIPTION:Oberliga Württemberg\nBegegnungs-Nr: 30\nHeim: SG Donautal Tuttlingen 1\nGast: SK Wernau 1\n\nAdresse: Jahnstr. 5\, 78532 Tuttlingen\n
LOCATION:Jahnstr. 5\, 78532 Tuttlingen
CATEGORIES:Saison 2024/25
END:VEVENT
BEGIN:VEVENT
DTSTAMP:20260425T211017Z
DTSTART;TZID=Europe/Berlin:20250202T000000
DTEND;TZID=Europe/Berlin:20250202T030000
SUMMARY:Oberliga Württemberg Stuttgarter SF 2 vs SG Donautal Tuttlingen 1 (32)
UID:89863471-ce84-43d0-8cb9-04a45647a750
STATUS:CONFIRMED
LAST-MODIFIED:20250203T191121Z
DESCRIPTION:Oberliga Württemberg\nBegegnungs-Nr: 32\nHeim: Stuttgarter SF 2\nGast: SG Donautal Tuttlingen 1\nHalle: h Clara-Zetkin-Haus\, Gorch-Fock-Str. 26\, 70619 Stuttgart\nAdresse: Bebelstr. 22\, 70176 Stuttgart\n
LOCATION:h Clara-Zetkin-Haus\, Gorch-Fock-Str. 26\, 70619 Stuttgart Bebelstr. 22\, 70176 Stuttgart
CATEGORIES:Saison 2024/25
END:VEVENT
BEGIN:VEVENT
DTSTAMP:20260425T211017Z
DTSTART;TZID=Europe/Berlin:20250223T000000
DTEND;TZID=Europe/Berlin:20250223T030000
SUMMARY:Oberliga Württemberg SG Donautal Tuttlingen 1 vs SF HN-Biberach 1 (39)
UID:58057bbe-b4da-42ea-bef5-13745770e660
STATUS:CONFIRMED
LAST-MODIFIED:20250224T134535Z
DESCRIPTION:Oberliga Württemberg\nBegegnungs-Nr: 39\nHeim: SG Donautal Tuttlingen 1\nGast: SF HN-Biberach 1\n\nAdresse: Jahnstr. 5\, 78532 Tuttlingen\n
LOCATION:Jahnstr. 5\, 78532 Tuttlingen
CATEGORIES:Saison 2024/25
END:VEVENT
BEGIN:VEVENT
DTSTAMP:20260425T211017Z
DTSTART;TZID=Europe/Berlin:20250330T000000
DTEND;TZID=Europe/Berlin:20250330T030000
SUMMARY:Oberliga Württemberg Stuttgarter SF 1 vs SG Donautal Tuttlingen 1 (43)
UID:86c9f6d7-9774-46b3-82e8-32bbde156c9a
STATUS:CONFIRMED
LAST-MODIFIED:20250403T094250Z
DESCRIPTION:Oberliga Württemberg\nBegegnungs-Nr: 43\nHeim: Stuttgarter SF 1\nGast: SG Donautal Tuttlingen 1\n\nAdresse: Bebelstr. 22\, 70176 Stuttgart\n
LOCATION:Bebelstr. 22\, 70176 Stuttgart
CATEGORIES:Saison 2024/25
END:VEVENT
END:VCALENDAR
